BEGIN:VCALENDAR
VERSION:2.0
PRODID:-//Vanguardistas LLC//NONSGML Metro Publisher//EN
BEGIN:VEVENT
SUMMARY:40. Bürgerfest Unterföhring
DTSTART:20260620T150000Z
DTEND:20260620T150000Z
UID:48d977b8-3cce-11f1-9ea9-1248ae80e59d_20260620T170000
GEO:48.1926106;11.6523447
LOCATION:Festplatz Jahnstraße
URL:https://zwergerl-magazin.de/events/40-b%C3%BCrgerfest-unterf%C3%B6hrin
 g-2026/
END:VEVENT
END:VCALENDAR
