BEGIN:VCALENDAR
VERSION:2.0
PRODID:-//Vanguardistas LLC//NONSGML Metro Publisher//EN
BEGIN:VEVENT
SUMMARY:Abendwanderung für die ganze Familie - mit Laternen zur Reiseralm
DTSTART:20260304T160000Z
DTEND:20260304T200000Z
UID:283cd6d6-073a-11f1-8f18-1248ae80e59d_20260304T170000
GEO:47.6743722;11.5680862
LOCATION:Brauneck-Bergbahn
URL:https://zwergerl-magazin.de/events/abendwanderung-f%C3%BCr-die-ganze-f
 amilie-mit-laternen-zur-reiser_1/
END:VEVENT
END:VCALENDAR
