BEGIN:VCALENDAR
VERSION:2.0
PRODID:-//Vanguardistas LLC//NONSGML Metro Publisher//EN
BEGIN:VEVENT
SUMMARY:Abenteuer für kleine Schatzsucher
DTSTART:20260630T090000Z
DTEND:20260630T130000Z
UID:88eb8a96-398e-11f1-ac87-1248ae80e59d_20260630T110000
LOCATION:krimml
URL:https://zwergerl-magazin.de/events/abenteuer-f%C3%BCr-kleine-schatzsuc
 her/
END:VEVENT
END:VCALENDAR
