BEGIN:VCALENDAR
VERSION:2.0
PRODID:-//Vanguardistas LLC//NONSGML Metro Publisher//EN
BEGIN:VEVENT
SUMMARY:Auto des Monats
DTSTART;VALUE=DATE:20260904
DTEND;VALUE=DATE:20260905
UID:13499cd6-d734-11f0-87ba-1248ae80e59d_20260904T000000
GEO:47.99594;12.30692
LOCATION:EFA-Museum für Deutsche Automobilgeschichte GmbH & Co KG
URL:https://zwergerl-magazin.de/events/auto-d-monats/
END:VEVENT
END:VCALENDAR
