BEGIN:VCALENDAR
VERSION:2.0
PRODID:-//Vanguardistas LLC//NONSGML Metro Publisher//EN
BEGIN:VEVENT
SUMMARY:BeKiki – Kinderkleider- und Spielzeug-Basar
DTSTART:20261010T070000Z
DTEND:20261010T103000Z
UID:1788014c-3a2c-11f1-a7b4-12b8593dbbc9_20261010T090000
DESCRIPTION:Kinderkleider- und Spielzeug-Basar in Günding\, zwischen Berg
 kirchen und Dachau. Vorsortierter Hallen-Basar für saisonale Kinderkleidu
 ng\, -Schuhe und Spielsachen. Angebote in den Größen 50 bis 182 für Bab
 ies und Kinder bis zum Teenager. Zusätzlich...
GEO:48.2522724;11.3950023
LOCATION:Sporthalle Günding
URL:https://zwergerl-magazin.de/events/bekiki-kinderkleider-spielzeug-basa
 r/
END:VEVENT
END:VCALENDAR
