BEGIN:VCALENDAR
VERSION:2.0
PRODID:-//Vanguardistas LLC//NONSGML Metro Publisher//EN
BEGIN:VEVENT
SUMMARY:Berge in Flammen Sonnwendfeuer in der Region St. Johann in Tirol!
DTSTART:20260620T163000Z
DTEND:20260620T220000Z
UID:72096e46-3985-11f1-bb9e-1248ae80e59d_20260620T183000
GEO:47.3602098627018;13.3371932177734
LOCATION:Tourismusverband St. Johann in Salzburg
URL:https://zwergerl-magazin.de/events/berge-in-flammen-sonnwendfeuer-in-d
 er-region-st-johann-in-ti/
END:VEVENT
END:VCALENDAR
