BEGIN:VCALENDAR
VERSION:2.0
PRODID:-//Vanguardistas LLC//NONSGML Metro Publisher//EN
BEGIN:VEVENT
SUMMARY:Bilderbuchkino mit kleiner Bastelei
DTSTART:20260603T130000Z
DTEND:20260603T130000Z
UID:10e5f75e-3978-11f1-aeda-1248ae80e59d_20260603T150000
LOCATION:Unterwössen
URL:https://zwergerl-magazin.de/events/bilderbuchkino-mit-kleiner-bastelei
 /
END:VEVENT
END:VCALENDAR
