BEGIN:VCALENDAR
VERSION:2.0
PRODID:-//Vanguardistas LLC//NONSGML Metro Publisher//EN
BEGIN:VEVENT
SUMMARY:CRAFT\, CREATE\, CELEBRATE - MUSEUMSNACHT VOL.I
DTSTART:20260515T150000Z
DTEND:20260515T210000Z
UID:0a9ddc2c-3ccf-11f1-9f02-1248ae80e59d_20260515T170000
GEO:48.2708;11.576
LOCATION:Stadtmuseum Unterschleißheim
URL:https://zwergerl-magazin.de/events/craft-create-celebrate-museumsnacht
 -vol-i/
END:VEVENT
END:VCALENDAR
