BEGIN:VCALENDAR
VERSION:2.0
PRODID:-//Vanguardistas LLC//NONSGML Metro Publisher//EN
BEGIN:VEVENT
SUMMARY:Die Museumsmuffel-Bande ...
DTSTART:20260517T130000Z
DTEND:20260517T140000Z
UID:ad8a0082-3ccf-11f1-bda8-1248ae80e59d_20260517T150000
GEO:48.1432376;11.5911364
LOCATION:Bayerisches Nationalmuseum
URL:https://zwergerl-magazin.de/events/die-museumsmuffel-bande/
END:VEVENT
END:VCALENDAR
