BEGIN:VCALENDAR
VERSION:2.0
PRODID:-//Vanguardistas LLC//NONSGML Metro Publisher//EN
BEGIN:VEVENT
SUMMARY:Ellmauer Sommernacht
DTSTART:20260602T160000Z
DTEND:20260602T200000Z
UID:6d56d104-398a-11f1-9a44-1248ae80e59d_20260602T180000
LOCATION:Ellmau
URL:https://zwergerl-magazin.de/events/ellmauer-sommernacht/
END:VEVENT
END:VCALENDAR
