BEGIN:VCALENDAR
VERSION:2.0
PRODID:-//Vanguardistas LLC//NONSGML Metro Publisher//EN
BEGIN:VEVENT
SUMMARY:Elternwissen am Abend – ONLINE
DTSTART:20260225T183000Z
DTEND:20260225T200000Z
UID:b8d1cce4-080a-11f1-8a02-1248ae80e59d_20260225T193000
LOCATION:Online
URL:https://zwergerl-magazin.de/events/elternwissen-am-abend-%E2%80%93-onl
 ine/
END:VEVENT
END:VCALENDAR
