BEGIN:VCALENDAR
VERSION:2.0
PRODID:-//Vanguardistas LLC//NONSGML Metro Publisher//EN
BEGIN:VEVENT
SUMMARY:Es ist nicht alles Gold\, was glänzt
DTSTART:20260515T130000Z
DTEND:20260515T140000Z
UID:464fed66-3cd2-11f1-8f0f-1248ae80e59d_20260515T150000
GEO:48.1582675;11.5033143
LOCATION:Museum Mensch und Natur
URL:https://zwergerl-magazin.de/events/es-ist-nicht-alles-gold-was-gl%C3%A
 4nzt/
END:VEVENT
END:VCALENDAR
