BEGIN:VCALENDAR
VERSION:2.0
PRODID:-//Vanguardistas LLC//NONSGML Metro Publisher//EN
BEGIN:VEVENT
SUMMARY:Familienkonzert
DTSTART:20270627T090000Z
DTEND:20270627T090000Z
UID:ca8f1222-3cce-11f1-af7a-1248ae80e59d_20270627T110000
GEO:48.1102586;11.5533086
LOCATION:Die Münchner Philharmoniker
URL:https://zwergerl-magazin.de/events/familienkonzert_1/
END:VEVENT
END:VCALENDAR
