BEGIN:VCALENDAR
VERSION:2.0
PRODID:-//Vanguardistas LLC//NONSGML Metro Publisher//EN
BEGIN:VEVENT
SUMMARY:Flohmarkt des Fördervereins HartseeWichtel e.V.
DTSTART:20260424T130000Z
DTEND:20260424T180000Z
UID:b24895f8-0330-11f1-bc79-1248ae80e59d_20260424T150000
GEO:47.9287353;12.3796115
LOCATION:Kindertagesstätte Hartseewichtel
URL:https://zwergerl-magazin.de/events/flohmarkt-des-f%C3%B6rdervereins-ha
 rtseewichtel-e-v/
END:VEVENT
END:VCALENDAR
