BEGIN:VCALENDAR
VERSION:2.0
PRODID:-//Vanguardistas LLC//NONSGML Metro Publisher//EN
BEGIN:VEVENT
SUMMARY:Frühlings-JA-Markt der Pfennigparade 2026
DTSTART:20260508T110000Z
DTEND:20260508T170000Z
UID:89ec86a2-3a29-11f1-a2f4-1248ae80e59d_20260508T130000
GEO:48.13452;11.571
LOCATION:Bibliothek der Stiftung Pfennigparade
URL:https://zwergerl-magazin.de/events/fr%C3%BChlings-ja-markt-der-pfennig
 parade-2026/
END:VEVENT
END:VCALENDAR
