BEGIN:VCALENDAR
VERSION:2.0
PRODID:-//Vanguardistas LLC//NONSGML Metro Publisher//EN
BEGIN:VEVENT
SUMMARY:Ganz Schaf - Natursommer im Loisachtal
DTSTART:20260606T080000Z
DTEND:20260606T100000Z
UID:02750286-38c5-11f1-b059-1248ae80e59d_20260606T100000
GEO:47.70788;11.40115
LOCATION:ZUK Rezeption im Maierhof
URL:https://zwergerl-magazin.de/events/ganz-schaf-natursommer-im-loisachta
 l/
END:VEVENT
END:VCALENDAR
