BEGIN:VCALENDAR
VERSION:2.0
PRODID:-//Vanguardistas LLC//NONSGML Metro Publisher//EN
BEGIN:VEVENT
SUMMARY:Eine Kugelbahn für den Museumsgarten
DTSTART:20260522T120000Z
DTEND:20260522T140000Z
UID:38ae31be-3cbd-11f1-ae24-1248ae80e59d_20260522T140000
GEO:47.7998478;13.039928
LOCATION:Spielzeug Museum Salzburg
URL:https://zwergerl-magazin.de/events/gro%C3%9Fer-flohmarkt/
END:VEVENT
END:VCALENDAR
