BEGIN:VCALENDAR
VERSION:2.0
PRODID:-//Vanguardistas LLC//NONSGML Metro Publisher//EN
BEGIN:VEVENT
SUMMARY:Internationaler Museumstag im Ballonmuseum im Rahmen der Gasballon
 meisterschaft
DTSTART:20260517T090000Z
DTEND:20260517T150000Z
UID:70430600-188b-11f1-b848-12a293ee30af_20260517T110000
DESCRIPTION:Anlässlich des 125-jährigen Jubiläums des Freiballonvereins
  Augsburg wird die Deutsche Meisterschaft für Gasballone im Rahmen des Ba
 llonmuseumscups vom 12. bis 17. Mai 2026 in der Ballonstadt Gersthofen aus
 getragen und fällt somit auch auf den In...
GEO:48.42432;10.87273
LOCATION:Das Ballonmuseum Gersthofen
URL:https://zwergerl-magazin.de/events/internationaler-museumstag-ballonmu
 seum-rahmen-gasballonmeisterschaft/
END:VEVENT
END:VCALENDAR
