BEGIN:VCALENDAR
VERSION:2.0
PRODID:-//Vanguardistas LLC//NONSGML Metro Publisher//EN
BEGIN:VEVENT
SUMMARY:Internationaler Museumstag
DTSTART:20260517T123000Z
DTEND:20260517T123000Z
UID:416d2dfa-3cd1-11f1-8744-1248ae80e59d_20260517T143000
GEO:48.4582716;11.1338101
LOCATION:Stadtmuseum Aichach & Wittelsbacher Museum
URL:https://zwergerl-magazin.de/events/internationaler-museumstag/
END:VEVENT
END:VCALENDAR
