BEGIN:VCALENDAR
VERSION:2.0
PRODID:-//Vanguardistas LLC//NONSGML Metro Publisher//EN
BEGIN:VEVENT
SUMMARY:Jugend- und Nachwuchskapelle Unterföhring Muttertags-Serenade
DTSTART:20260510T150000Z
DTEND:20260510T150000Z
UID:fc764842-3ccd-11f1-9712-1248ae80e59d_20260510T170000
GEO:48.1884;11.6584
LOCATION:Aula der Schule Unterföhring
URL:https://zwergerl-magazin.de/events/jugend-und-nachwuchskapelle-unterf%
 C3%B6hring-muttertags-serenade/
END:VEVENT
END:VCALENDAR
