BEGIN:VCALENDAR
VERSION:2.0
PRODID:-//Vanguardistas LLC//NONSGML Metro Publisher//EN
BEGIN:VEVENT
SUMMARY:Kinderworkshop "Rittertum trifft auf KI" im Wittelsbacher Museum
DTSTART:20260620T123000Z
DTEND:20260620T123000Z
UID:69350ae2-3cd1-11f1-b289-1248ae80e59d_20260620T143000
GEO:48.4582716;11.1338101
LOCATION:Stadtmuseum Aichach & Wittelsbacher Museum
URL:https://zwergerl-magazin.de/events/kinderworkshop-rittertum-trifft-auf
 -ki-im-wittelsbacher-muse/
END:VEVENT
END:VCALENDAR
