BEGIN:VCALENDAR
VERSION:2.0
PRODID:-//Vanguardistas LLC//NONSGML Metro Publisher//EN
BEGIN:VEVENT
SUMMARY:Korkenschiffchen
DTSTART:20260609T130000Z
DTEND:20260609T143000Z
UID:7365f684-3cbd-11f1-8a2a-1248ae80e59d_20260609T150000
GEO:47.7998478;13.039928
LOCATION:Spielzeug Museum Salzburg
URL:https://zwergerl-magazin.de/events/korkenschiffchen/
END:VEVENT
END:VCALENDAR
