BEGIN:VCALENDAR
VERSION:2.0
PRODID:-//Vanguardistas LLC//NONSGML Metro Publisher//EN
BEGIN:VEVENT
SUMMARY:Kräuter-Detektive … mit selbst kreiertem Essig und selbst gemö
 rsertem Kräutersalz
DTSTART:20260528T073000Z
DTEND:20260528T090000Z
UID:f5f81eea-38c3-11f1-a38d-1248ae80e59d_20260528T093000
GEO:47.6809835;11.5772066
LOCATION:Gästeinformation Lenggries
URL:https://zwergerl-magazin.de/events/kr%C3%A4uter-detektive-%E2%80%A6-mi
 t-selbst-kreiertem-essig-und-selbst-ge/
END:VEVENT
END:VCALENDAR
