BEGIN:VCALENDAR
VERSION:2.0
PRODID:-//Vanguardistas LLC//NONSGML Metro Publisher//EN
BEGIN:VEVENT
SUMMARY:Kükenwochen im Hexenwasser
DTSTART:20260509T070000Z
DTEND:20260509T070000Z
UID:6e3a421e-3989-11f1-a5c7-1248ae80e59d_20260509T090000
GEO:47.4964289;12.1981478
LOCATION:Hexenwasser SÖLL HOHE SALVE
URL:https://zwergerl-magazin.de/events/k%C3%BCkenwochen-im-hexenwasser/
END:VEVENT
END:VCALENDAR
