BEGIN:VCALENDAR
VERSION:2.0
PRODID:-//Vanguardistas LLC//NONSGML Metro Publisher//EN
BEGIN:VEVENT
SUMMARY:Lesefrösche - Vorlesen für Kinder
DTSTART:20260422T130000Z
DTEND:20260422T140000Z
UID:375ecf66-fd17-11f0-ae7c-1248ae80e59d_20260422T150000
GEO:47.85752;12.12757
LOCATION:Stadtbibliothek Rosenheim
URL:https://zwergerl-magazin.de/events/lesefr%C3%B6sche-vorlesen-f%C3%BCr-
 kinder_2/
END:VEVENT
END:VCALENDAR
