BEGIN:VCALENDAR
VERSION:2.0
PRODID:-//Vanguardistas LLC//NONSGML Metro Publisher//EN
BEGIN:VEVENT
SUMMARY:Lipizzaner Gestütsführung beim Stanglwirt
DTSTART:20260502T161500Z
DTEND:20260502T164500Z
UID:1d0f8ba2-3988-11f1-a94d-1248ae80e59d_20260502T181500
LOCATION:Going am wilden Kaiser
URL:https://zwergerl-magazin.de/events/lipizzaner-gest%C3%BCtsf%C3%BChrung
 -beim-stanglwirt/
END:VEVENT
END:VCALENDAR
