BEGIN:VCALENDAR
VERSION:2.0
PRODID:-//Vanguardistas LLC//NONSGML Metro Publisher//EN
BEGIN:VEVENT
SUMMARY:Öffentliche Führung für Kinder und Erwachsene
DTSTART:20260503T120000Z
DTEND:20260503T133000Z
UID:c9678b3c-1888-11f1-bf80-12e47d1cbe39_20260503T140000
DESCRIPTION:Rundgang durch die Ausstellung des Ballonmuseums\; auf die Kin
 der wartet zudem ein praktischer Teil mit dem Durchführen physikalischer 
 Experimente im museumseigenen Labor
GEO:48.42432;10.87273
LOCATION:Das Ballonmuseum Gersthofen
URL:https://zwergerl-magazin.de/events/offentliche-fuhrung-kinder-erwachse
 ne-1/
END:VEVENT
END:VCALENDAR
