BEGIN:VCALENDAR
VERSION:2.0
PRODID:-//Vanguardistas LLC//NONSGML Metro Publisher//EN
BEGIN:VEVENT
SUMMARY:Paradiesvögel aus Wäscheklammern
DTSTART:20260516T130000Z
DTEND:20260516T143000Z
UID:26814f4c-3cba-11f1-9d8d-1248ae80e59d_20260516T150000
GEO:47.7998478;13.039928
LOCATION:Spielzeug Museum Salzburg
URL:https://zwergerl-magazin.de/events/paradiesv%C3%B6gel_aus_w%C3%A4schek
 lammern/
END:VEVENT
END:VCALENDAR
