BEGIN:VCALENDAR
VERSION:2.0
PRODID:-//Vanguardistas LLC//NONSGML Metro Publisher//EN
BEGIN:VEVENT
SUMMARY:Pfingstferienkurs: Museum in der Schachtel
DTSTART:20260603T120000Z
DTEND:20260603T150000Z
UID:92ca1c5e-3cd0-11f1-92f0-1248ae80e59d_20260603T140000
GEO:48.1457804;11.565327
LOCATION:Antike am Königsplatz
URL:https://zwergerl-magazin.de/events/pfingstferienkurs-museum-in-der-sch
 achtel/
END:VEVENT
END:VCALENDAR
