BEGIN:VCALENDAR
VERSION:2.0
PRODID:-//Vanguardistas LLC//NONSGML Metro Publisher//EN
BEGIN:VEVENT
SUMMARY:So isst die Welt
DTSTART:20260522T130000Z
DTEND:20260522T140000Z
UID:74ff2d02-3cd2-11f1-8783-1248ae80e59d_20260522T150000
GEO:48.1582675;11.5033143
LOCATION:Museum Mensch und Natur
URL:https://zwergerl-magazin.de/events/so-isst-die-welt_1/
END:VEVENT
END:VCALENDAR
