BEGIN:VCALENDAR
VERSION:2.0
PRODID:-//Vanguardistas LLC//NONSGML Metro Publisher//EN
BEGIN:VEVENT
SUMMARY:Spiel-Café
DTSTART:20260521T070000Z
DTEND:20260521T070000Z
UID:cb602e1a-0273-11f1-a339-1248ae80e59d_20260521T090000
GEO:47.78913;11.8344
LOCATION:Kinderschutzbund Miesbach
URL:https://zwergerl-magazin.de/events/spiel-caf%C3%A9/
END:VEVENT
END:VCALENDAR
