BEGIN:VCALENDAR
VERSION:2.0
PRODID:-//Vanguardistas LLC//NONSGML Metro Publisher//EN
BEGIN:VEVENT
SUMMARY:SPIELEN IM MUSEUM - BRETTSPIELE\, BEGEGNUNGEN\, NEUE PERSPEKTIVEN
DTSTART:20260616T153000Z
DTEND:20260616T190000Z
UID:66fb66e2-3ccf-11f1-89f5-1248ae80e59d_20260616T173000
GEO:48.2708;11.576
LOCATION:Stadtmuseum Unterschleißheim
URL:https://zwergerl-magazin.de/events/spielen-im-museum-brettspiele-begeg
 nungen-neue-perspektiven/
END:VEVENT
END:VCALENDAR
