BEGIN:VCALENDAR
VERSION:2.0
PRODID:-//Vanguardistas LLC//NONSGML Metro Publisher//EN
BEGIN:VEVENT
SUMMARY:Stars of Tomorrow Das Tanzsommer Event am Hauptplatz St. Johann in
  Tirol!
DTSTART:20260626T181500Z
DTEND:20260626T181500Z
UID:e36c55ee-3985-11f1-a1c4-1248ae80e59d_20260626T201500
GEO:47.3602098627018;13.3371932177734
LOCATION:Tourismusverband St. Johann in Salzburg
URL:https://zwergerl-magazin.de/events/stars-of-tomorrow-das-tanzsommer-ev
 ent-am-hauptplatz-st-joha/
END:VEVENT
END:VCALENDAR
