BEGIN:VCALENDAR
VERSION:2.0
PRODID:-//Vanguardistas LLC//NONSGML Metro Publisher//EN
BEGIN:VEVENT
SUMMARY:Theater-Workshop - T-Camp 2026
DTSTART:20260519T150000Z
DTEND:20260519T170000Z
UID:031759b2-0357-11f1-9a47-12a21f9967bf_20260519T170000
DESCRIPTION:Theater - Workshop für Kinder von 7-12 Jahren\nIm Frühjahr 2
 026 findet wieder unser theaterpädagogischer Workshop T-Camp statt. Wir b
 ieten 2 Kurse jeweils montags für Kinder von 7-9 Jahren und dienstags fü
 r Kinder von 10-12 Jahren an. In 6 Kursei...
GEO:48.1461731;11.5595113
LOCATION:Münchner Theater für Kinder
URL:https://zwergerl-magazin.de/events/theater-workshop-t-camp-2026/
END:VEVENT
END:VCALENDAR
