BEGIN:VCALENDAR
VERSION:2.0
PRODID:-//Vanguardistas LLC//NONSGML Metro Publisher//EN
BEGIN:VEVENT
SUMMARY:Grenzen setzen\, feinfühlig bleiben
DTSTART:20260422T170000Z
DTEND:20260422T183000Z
UID:2bccf062-395b-11f1-8227-1248ae80e59d_20260422T190000
LOCATION:Online-Meeting via Zoom
URL:https://zwergerl-magazin.de/events/vhs-online-grenzen-setzen-feinf%C3%
 BChlig-bleiben/
END:VEVENT
END:VCALENDAR
