BEGIN:VCALENDAR
VERSION:2.0
PRODID:-//Vanguardistas LLC//NONSGML Metro Publisher//EN
BEGIN:VEVENT
SUMMARY:Was führst du im Schilde?
DTSTART:20260614T130000Z
DTEND:20260614T150000Z
UID:486c065e-3cd0-11f1-aef6-1248ae80e59d_20260614T150000
GEO:48.1432376;11.5911364
LOCATION:Bayerisches Nationalmuseum
URL:https://zwergerl-magazin.de/events/was-f%C3%BChrst-du-im-schilde/
END:VEVENT
END:VCALENDAR
