BEGIN:VCALENDAR
VERSION:2.0
PRODID:-//Vanguardistas LLC//NONSGML Metro Publisher//EN
BEGIN:VEVENT
SUMMARY:Wasser – ein besonderer Stoff
DTSTART:20260529T130000Z
DTEND:20260529T140000Z
UID:bddb58e8-3cd2-11f1-8b1f-1248ae80e59d_20260529T150000
GEO:48.1582675;11.5033143
LOCATION:Museum Mensch und Natur
URL:https://zwergerl-magazin.de/events/wasser-%E2%80%93-ein-besonderer-sto
 ff/
END:VEVENT
END:VCALENDAR
