BEGIN:VCALENDAR
VERSION:2.0
PRODID:-//Vanguardistas LLC//NONSGML Metro Publisher//EN
BEGIN:VEVENT
SUMMARY:Wer ist die oder der schönste im ganzen Land?
DTSTART:20260628T130000Z
DTEND:20260628T150000Z
UID:feef9a40-3ccf-11f1-be78-1248ae80e59d_20260628T150000
GEO:48.1432376;11.5911364
LOCATION:Bayerisches Nationalmuseum
URL:https://zwergerl-magazin.de/events/wer-ist-die-oder-der-sch%C3%B6nste-
 im-ganzen-land/
END:VEVENT
END:VCALENDAR
