BEGIN:VCALENDAR
VERSION:2.0
PRODID:-//Vanguardistas LLC//NONSGML Metro Publisher//EN
BEGIN:VEVENT
SUMMARY:Workshop für Kinder: Modellbau für Einsteiger und Fortgeschritte
 ne: Fluggleiter BENEK SP-2020
DTSTART:20260508T120000Z
DTEND:20260508T143000Z
UID:1aef2af4-188a-11f1-85e2-12a293ee30af_20260508T140000
DESCRIPTION:In diesem Workshop entsteht ein Wurfgleiter\, der vollständig
  aus Balsaholz besteht: das Modell BENEK SP-2020. Dabei arbeiten die Kinde
 r mit einer sogenannten Helling\, einem für den Modellbau entwickelten Ba
 uplan\, der ein schnelles und präzises Zu...
GEO:48.42432;10.87273
LOCATION:Das Ballonmuseum Gersthofen
URL:https://zwergerl-magazin.de/events/workshop-kinder-modellbau-einsteige
 r-fortgeschrittene-fluggleiter-benek-sp-2020/
END:VEVENT
END:VCALENDAR
