BEGIN:VCALENDAR
VERSION:2.0
PRODID:-//Vanguardistas LLC//NONSGML Metro Publisher//EN
BEGIN:VEVENT
SUMMARY:Ziegenspaß auf Nicos Farm
DTSTART:20260513T080000Z
DTEND:20260513T120000Z
UID:f4f0db74-3989-11f1-bc82-1248ae80e59d_20260513T100000
LOCATION:Söll (Tirol)
URL:https://zwergerl-magazin.de/events/ziegenspa%C3%9F-auf-nicos-farm/
END:VEVENT
END:VCALENDAR
